BEGIN:VCALENDAR
VERSION:2.0
PRODID:-//Golfclub Heelsum - ECPv6.15.20//NONSGML v1.0//EN
CALSCALE:GREGORIAN
METHOD:PUBLISH
X-ORIGINAL-URL:https://gcheelsum.nl
X-WR-CALDESC:Evenementen voor Golfclub Heelsum
REFRESH-INTERVAL;VALUE=DURATION:PT1H
X-Robots-Tag:noindex
X-PUBLISHED-TTL:PT1H
BEGIN:VTIMEZONE
TZID:Europe/Amsterdam
BEGIN:DAYLIGHT
TZOFFSETFROM:+0100
TZOFFSETTO:+0200
TZNAME:CEST
DTSTART:20250330T010000
END:DAYLIGHT
BEGIN:STANDARD
TZOFFSETFROM:+0200
TZOFFSETTO:+0100
TZNAME:CET
DTSTART:20251026T010000
END:STANDARD
BEGIN:DAYLIGHT
TZOFFSETFROM:+0100
TZOFFSETTO:+0200
TZNAME:CEST
DTSTART:20260329T010000
END:DAYLIGHT
BEGIN:STANDARD
TZOFFSETFROM:+0200
TZOFFSETTO:+0100
TZNAME:CET
DTSTART:20261025T010000
END:STANDARD
BEGIN:DAYLIGHT
TZOFFSETFROM:+0100
TZOFFSETTO:+0200
TZNAME:CEST
DTSTART:20270328T010000
END:DAYLIGHT
BEGIN:STANDARD
TZOFFSETFROM:+0200
TZOFFSETTO:+0100
TZNAME:CET
DTSTART:20271031T010000
END:STANDARD
END:VTIMEZONE
BEGIN:VEVENT
DTSTART;TZID=Europe/Amsterdam:20260906T120000
DTEND;TZID=Europe/Amsterdam:20260906T170000
DTSTAMP:20260424T101853
CREATED:20251030T171043Z
LAST-MODIFIED:20251030T171052Z
UID:51176-1788696000-1788714000@gcheelsum.nl
SUMMARY:Maandbeker #5
DESCRIPTION:18 holes (maart t/m okt\, behalve in april) \n\nMB1 hcp -3 t/m 12 stableford\nMB2 hcp 10 t/m 20 stableford\nMB3 hcp 18 t/m 36 Stableford 18 holes.\n\nEr worden 6 maandbekerwedstrijden in het jaar gespeeld. Op de laatste maandbeker van het jaar wordt bepaald wie de overall winnaar over de hele serie is geworden per MB categorie. \nDe dagwinnaar mag deelnemen aan de Heelsum Masters. De Overall winnaar komt op het witte bord en mag deelnemen aan de Heelsum Masters.
URL:https://gcheelsum.nl/kalender/maandbeker-5/
LOCATION:Golfbaan Heelsum\, Ginkelseweg 14\, Heelsum\, Gelderland\, 6866DZ\, Netherlands
CATEGORIES:WECO
ORGANIZER;CN="Weco":MAILTO:weco@gcheelsum.nl
END:VEVENT
BEGIN:VEVENT
DTSTART;TZID=Europe/Amsterdam:20260915T180000
DTEND;TZID=Europe/Amsterdam:20260915T200000
DTSTAMP:20260424T101853
CREATED:20251031T143655Z
LAST-MODIFIED:20251031T143655Z
UID:51235-1789495200-1789502400@gcheelsum.nl
SUMMARY:Airborne wedstrijd 9h
DESCRIPTION:
URL:https://gcheelsum.nl/kalender/airborne-wedstrijd-9h/
LOCATION:Golfbaan Heelsum\, Ginkelseweg 14\, Heelsum\, Gelderland\, 6866DZ\, Netherlands
END:VEVENT
BEGIN:VEVENT
DTSTART;TZID=Europe/Amsterdam:20260916T180000
DTEND;TZID=Europe/Amsterdam:20260916T200000
DTSTAMP:20260424T101853
CREATED:20251031T143717Z
LAST-MODIFIED:20251031T143718Z
UID:51237-1789581600-1789588800@gcheelsum.nl
SUMMARY:Airborne wedstrijd 9h
DESCRIPTION:
URL:https://gcheelsum.nl/kalender/airborne-wedstrijd-9h-2/
LOCATION:Golfbaan Heelsum\, Ginkelseweg 14\, Heelsum\, Gelderland\, 6866DZ\, Netherlands
END:VEVENT
BEGIN:VEVENT
DTSTART;TZID=Europe/Amsterdam:20260918T080000
DTEND;TZID=Europe/Amsterdam:20260918T190000
DTSTAMP:20260424T101853
CREATED:20251031T143811Z
LAST-MODIFIED:20251031T143811Z
UID:51239-1789718400-1789758000@gcheelsum.nl
SUMMARY:De Airborne open toernooi
DESCRIPTION:
URL:https://gcheelsum.nl/kalender/de-airborne-open-toernooi/
LOCATION:Golfbaan Heelsum\, Ginkelseweg 14\, Heelsum\, Gelderland\, 6866DZ\, Netherlands
END:VEVENT
BEGIN:VEVENT
DTSTART;TZID=Europe/Amsterdam:20260919T100000
DTEND;TZID=Europe/Amsterdam:20260919T180000
DTSTAMP:20260424T101853
CREATED:20251031T143935Z
LAST-MODIFIED:20251031T143935Z
UID:51241-1789812000-1789840800@gcheelsum.nl
SUMMARY:Airbornewedstrijd 18 holes
DESCRIPTION:Een druk bezochte bijzondere 18 holes wedstrijd ter ere van de Airborne week. Tijdens het spelen zien we de parachutisten springen boven de Ginkelse Hei. \nSpelvorm shotgun stableford. \nT/m hcp 54 (playing hcp wordt op maximaal 36 gezet ivm doorloop). Tee keuze gebasseerd op hcp.
URL:https://gcheelsum.nl/kalender/airbornewedstrijd-18-holes/
LOCATION:Golfbaan Heelsum\, Ginkelseweg 14\, Heelsum\, Gelderland\, 6866DZ\, Netherlands
ORGANIZER;CN="Weco":MAILTO:weco@gcheelsum.nl
END:VEVENT
BEGIN:VEVENT
DTSTART;TZID=Europe/Amsterdam:20260927T120000
DTEND;TZID=Europe/Amsterdam:20260927T170000
DTSTAMP:20260424T101853
CREATED:20251030T171128Z
LAST-MODIFIED:20251030T171128Z
UID:51178-1790510400-1790528400@gcheelsum.nl
SUMMARY:Maandbeker #6
DESCRIPTION:18 holes (maart t/m okt\, behalve in april) \n\nMB1 hcp -3 t/m 12 stableford\nMB2 hcp 10 t/m 20 stableford\nMB3 hcp 18 t/m 36 Stableford 18 holes.\n\nEr worden 6 maandbekerwedstrijden in het jaar gespeeld. Op de laatste maandbeker van het jaar wordt bepaald wie de overall winnaar over de hele serie is geworden per MB categorie. \nDe dagwinnaar mag deelnemen aan de Heelsum Masters. De Overall winnaar komt op het witte bord en mag deelnemen aan de Heelsum Masters.
URL:https://gcheelsum.nl/kalender/maandbeker-6/
LOCATION:Golfbaan Heelsum\, Ginkelseweg 14\, Heelsum\, Gelderland\, 6866DZ\, Netherlands
CATEGORIES:WECO
ORGANIZER;CN="Weco":MAILTO:weco@gcheelsum.nl
END:VEVENT
END:VCALENDAR