BEGIN:VCALENDAR
VERSION:2.0
PRODID:-//Golfclub Heelsum - ECPv6.15.20//NONSGML v1.0//EN
CALSCALE:GREGORIAN
METHOD:PUBLISH
X-ORIGINAL-URL:https://gcheelsum.nl
X-WR-CALDESC:Evenementen voor Golfclub Heelsum
REFRESH-INTERVAL;VALUE=DURATION:PT1H
X-Robots-Tag:noindex
X-PUBLISHED-TTL:PT1H
BEGIN:VTIMEZONE
TZID:Europe/Amsterdam
BEGIN:DAYLIGHT
TZOFFSETFROM:+0100
TZOFFSETTO:+0200
TZNAME:CEST
DTSTART:20250330T010000
END:DAYLIGHT
BEGIN:STANDARD
TZOFFSETFROM:+0200
TZOFFSETTO:+0100
TZNAME:CET
DTSTART:20251026T010000
END:STANDARD
BEGIN:DAYLIGHT
TZOFFSETFROM:+0100
TZOFFSETTO:+0200
TZNAME:CEST
DTSTART:20260329T010000
END:DAYLIGHT
BEGIN:STANDARD
TZOFFSETFROM:+0200
TZOFFSETTO:+0100
TZNAME:CET
DTSTART:20261025T010000
END:STANDARD
BEGIN:DAYLIGHT
TZOFFSETFROM:+0100
TZOFFSETTO:+0200
TZNAME:CEST
DTSTART:20270328T010000
END:DAYLIGHT
BEGIN:STANDARD
TZOFFSETFROM:+0200
TZOFFSETTO:+0100
TZNAME:CET
DTSTART:20271031T010000
END:STANDARD
END:VTIMEZONE
BEGIN:VEVENT
DTSTART;TZID=Europe/Amsterdam:20260606T120000
DTEND;TZID=Europe/Amsterdam:20260606T170000
DTSTAMP:20260423T175148
CREATED:20251030T171610Z
LAST-MODIFIED:20251031T142306Z
UID:51183-1780747200-1780765200@gcheelsum.nl
SUMMARY:Greensome benefiet wedstrijd voor stichting Handicart
DESCRIPTION:18 holes Greensome benefietwedstrijd om geld in te zamelen voor de Stichting Handicart die ervoor zorgt dat de handicarts op onze baan beschikbaar zijn om zo minder valide golfers zo lang mogelijk te kunnen laten spelen. \nHet inschrijfgeld komt geheel ten goede aan de Stichting Handicart. De winnaars mogen in september deelnemen aan de regiofinale en eventueel de daaropvolgende landelijke finale. Om daarvoor in aanmerking te komen moeten beide spelers hcp 36 of lager hebben. Bij voorkeur inschrijven per koppel. Eventueel kan de Weco koppels formeren. De winnaars worden geplaatst voor de Heelsum Masters.
URL:https://gcheelsum.nl/kalender/greensome-benefiet-wedstrijd-voor-stichting-handicart/
LOCATION:Golfbaan Heelsum\, Ginkelseweg 14\, Heelsum\, Gelderland\, 6866DZ\, Netherlands
CATEGORIES:WECO
END:VEVENT
BEGIN:VEVENT
DTSTART;TZID=Europe/Amsterdam:20260620T133000
DTEND;TZID=Europe/Amsterdam:20260620T220000
DTSTAMP:20260423T175148
CREATED:20251031T121606Z
LAST-MODIFIED:20251031T142258Z
UID:51208-1781962200-1781992800@gcheelsum.nl
SUMMARY:Midzomer wedstrijd & bbq
DESCRIPTION:
URL:https://gcheelsum.nl/kalender/midzomer-wedstrijd-bbq/
LOCATION:Golfbaan Heelsum\, Ginkelseweg 14\, Heelsum\, Gelderland\, 6866DZ\, Netherlands
CATEGORIES:WECO
END:VEVENT
BEGIN:VEVENT
DTSTART;TZID=Europe/Amsterdam:20260625T130000
DTEND;TZID=Europe/Amsterdam:20260625T170000
DTSTAMP:20260423T175148
CREATED:20251031T141800Z
LAST-MODIFIED:20251031T142253Z
UID:51210-1782392400-1782406800@gcheelsum.nl
SUMMARY:65+ kampioenschappen\, golf veteranenkampioenschappen
DESCRIPTION:
URL:https://gcheelsum.nl/kalender/65-kampioenschappen-golf-veteranenkampioenschappen/
LOCATION:Golfbaan Heelsum\, Ginkelseweg 14\, Heelsum\, Gelderland\, 6866DZ\, Netherlands
CATEGORIES:Bestuur,WECO
END:VEVENT
END:VCALENDAR