BEGIN:VCALENDAR
VERSION:2.0
PRODID:-//Golfclub Heelsum - ECPv6.15.20//NONSGML v1.0//EN
CALSCALE:GREGORIAN
METHOD:PUBLISH
X-ORIGINAL-URL:https://gcheelsum.nl
X-WR-CALDESC:Evenementen voor Golfclub Heelsum
REFRESH-INTERVAL;VALUE=DURATION:PT1H
X-Robots-Tag:noindex
X-PUBLISHED-TTL:PT1H
BEGIN:VTIMEZONE
TZID:Europe/Amsterdam
BEGIN:DAYLIGHT
TZOFFSETFROM:+0100
TZOFFSETTO:+0200
TZNAME:CEST
DTSTART:20250330T010000
END:DAYLIGHT
BEGIN:STANDARD
TZOFFSETFROM:+0200
TZOFFSETTO:+0100
TZNAME:CET
DTSTART:20251026T010000
END:STANDARD
BEGIN:DAYLIGHT
TZOFFSETFROM:+0100
TZOFFSETTO:+0200
TZNAME:CEST
DTSTART:20260329T010000
END:DAYLIGHT
BEGIN:STANDARD
TZOFFSETFROM:+0200
TZOFFSETTO:+0100
TZNAME:CET
DTSTART:20261025T010000
END:STANDARD
BEGIN:DAYLIGHT
TZOFFSETFROM:+0100
TZOFFSETTO:+0200
TZNAME:CEST
DTSTART:20270328T010000
END:DAYLIGHT
BEGIN:STANDARD
TZOFFSETFROM:+0200
TZOFFSETTO:+0100
TZNAME:CET
DTSTART:20271031T010000
END:STANDARD
END:VTIMEZONE
BEGIN:VEVENT
DTSTART;TZID=Europe/Amsterdam:20260514T063000
DTEND;TZID=Europe/Amsterdam:20260514T120000
DTSTAMP:20260423T162514
CREATED:20251031T121338Z
LAST-MODIFIED:20251031T142332Z
UID:51206-1778740200-1778760000@gcheelsum.nl
SUMMARY:Dauwtrap Hemelvaartswedstrijd 9 en 18 holes met uitgebreid ontbijt
DESCRIPTION:Dauwtrapwedstrijd op Hemelvaartsdag. 9 of 18 holes shotgun stablefordwedstrijd. Beide wedstrijden starten om 06:30 uur. Na 9 holes is er een gezamenlijk ontbijt\, waarna de 2e 9 holes van de 18 holes wedstrijd om 10:00 uur vanaf de eerste tee wordt voortgezet in normale flightindeling (dus geen shotgun). Prijsuitreiking van de 9 holes wedstrijd tijdens het ontbijt. Prijsuitreiking 18 holes wedstrijd na afloop.\nLET OP: Prijs voor deelname aan wedstrijd is inclusief ontbijt en vast\, ook wanneer u niet mee wil/kan mee eten
URL:https://gcheelsum.nl/kalender/dauwtrap-hemelvaartswedstrijd-9-en-18-holes-met-uitgebreid-ontbijt/
LOCATION:Golfbaan Heelsum\, Ginkelseweg 14\, Heelsum\, Gelderland\, 6866DZ\, Netherlands
CATEGORIES:WECO
END:VEVENT
BEGIN:VEVENT
DTSTART;TZID=Europe/Amsterdam:20260516T100000
DTEND;TZID=Europe/Amsterdam:20260516T170000
DTSTAMP:20260423T162514
CREATED:20251030T170812Z
LAST-MODIFIED:20251031T142324Z
UID:51170-1778925600-1778950800@gcheelsum.nl
SUMMARY:Maandbeker #2
DESCRIPTION:18 holes (maart t/m okt\, behalve in april) \n\nMB1 hcp -3 t/m 12 stableford\nMB2 hcp 10 t/m 20 stableford\nMB3 hcp 18 t/m 36 Stableford 18 holes.\n\nEr worden 6 maandbekerwedstrijden in het jaar gespeeld. Op de laatste maandbeker van het jaar wordt bepaald wie de overall winnaar over de hele serie is geworden per MB categorie. \nDe dagwinnaar mag deelnemen aan de Heelsum Masters. De Overall winnaar komt op het witte bord en mag deelnemen aan de Heelsum Masters.
URL:https://gcheelsum.nl/kalender/maandbeker-2/
LOCATION:Golfbaan Heelsum\, Ginkelseweg 14\, Heelsum\, Gelderland\, 6866DZ\, Netherlands
CATEGORIES:WECO
ORGANIZER;CN="Weco":MAILTO:weco@gcheelsum.nl
END:VEVENT
BEGIN:VEVENT
DTSTART;TZID=Europe/Amsterdam:20260530T080000
DTEND;TZID=Europe/Amsterdam:20260531T170000
DTSTAMP:20260423T162514
CREATED:20251030T171300Z
LAST-MODIFIED:20251031T142321Z
UID:51180-1780128000-1780246800@gcheelsum.nl
SUMMARY:Matchplaykampioenschappen regulier en senioren
DESCRIPTION:De voorronde zullen in de periode 2 weken voor 30 mei gespeeld moeten worden \n 
URL:https://gcheelsum.nl/kalender/matchplaykampioenschappen/
LOCATION:Golfbaan Heelsum\, Ginkelseweg 14\, Heelsum\, Gelderland\, 6866DZ\, Netherlands
CATEGORIES:Bestuur,WECO
END:VEVENT
END:VCALENDAR