BEGIN:VCALENDAR
VERSION:2.0
PRODID:-//Golfclub Heelsum - ECPv6.15.20//NONSGML v1.0//EN
CALSCALE:GREGORIAN
METHOD:PUBLISH
X-WR-CALNAME:Golfclub Heelsum
X-ORIGINAL-URL:https://gcheelsum.nl
X-WR-CALDESC:Evenementen voor Golfclub Heelsum
REFRESH-INTERVAL;VALUE=DURATION:PT1H
X-Robots-Tag:noindex
X-PUBLISHED-TTL:PT1H
BEGIN:VTIMEZONE
TZID:Europe/Amsterdam
BEGIN:DAYLIGHT
TZOFFSETFROM:+0100
TZOFFSETTO:+0200
TZNAME:CEST
DTSTART:20250330T010000
END:DAYLIGHT
BEGIN:STANDARD
TZOFFSETFROM:+0200
TZOFFSETTO:+0100
TZNAME:CET
DTSTART:20251026T010000
END:STANDARD
BEGIN:DAYLIGHT
TZOFFSETFROM:+0100
TZOFFSETTO:+0200
TZNAME:CEST
DTSTART:20260329T010000
END:DAYLIGHT
BEGIN:STANDARD
TZOFFSETFROM:+0200
TZOFFSETTO:+0100
TZNAME:CET
DTSTART:20261025T010000
END:STANDARD
BEGIN:DAYLIGHT
TZOFFSETFROM:+0100
TZOFFSETTO:+0200
TZNAME:CEST
DTSTART:20270328T010000
END:DAYLIGHT
BEGIN:STANDARD
TZOFFSETFROM:+0200
TZOFFSETTO:+0100
TZNAME:CET
DTSTART:20271031T010000
END:STANDARD
END:VTIMEZONE
BEGIN:VEVENT
DTSTART;TZID=Europe/Amsterdam:20260104T130000
DTEND;TZID=Europe/Amsterdam:20260104T170000
DTSTAMP:20260423T193557
CREATED:20251028T171939Z
LAST-MODIFIED:20251028T171939Z
UID:51110-1767531600-1767546000@gcheelsum.nl
SUMMARY:Nieuwjaarswedstrijd 9h en 18h
DESCRIPTION:
URL:https://gcheelsum.nl/kalender/nieuwjaarswedstrijd-9h-en-18h/
LOCATION:Golfbaan Heelsum\, Ginkelseweg 14\, Heelsum\, Gelderland\, 6866DZ\, Netherlands
CATEGORIES:Bestuur
END:VEVENT
BEGIN:VEVENT
DTSTART;TZID=Europe/Amsterdam:20260111T100000
DTEND;TZID=Europe/Amsterdam:20260111T170000
DTSTAMP:20260423T193557
CREATED:20241216T124514Z
LAST-MODIFIED:20251028T172627Z
UID:45781-1768125600-1768150800@gcheelsum.nl
SUMMARY:Bikkel #3
DESCRIPTION:Wedstrijd info:\nDe bikkel is een non-qualifying18h stableford wedstrijd. \nHet is onderdeel van een meerronde waarin de beste 4 van de 6 bikkels meetellen in het overall klassement \nPrijzen: Voor elke ronde zijn er prijzen voor de nummers 1 t/m 3. \nPlaatsing Masters: Uitsluitend de overall winnaar van de meerronde plaatst zich voor de Masters 2026 \nTee keuze: Dames; rood\, Heren:  geel
URL:https://gcheelsum.nl/kalender/bikkel-3-2/
LOCATION:Gelderland
CATEGORIES:WECO
ORGANIZER;CN="Weco":MAILTO:weco@gcheelsum.nl
END:VEVENT
BEGIN:VEVENT
DTSTART;TZID=Europe/Amsterdam:20260117T140000
DTEND;TZID=Europe/Amsterdam:20260117T170000
DTSTAMP:20260423T193557
CREATED:20251028T174018Z
LAST-MODIFIED:20251028T174018Z
UID:51130-1768658400-1768669200@gcheelsum.nl
SUMMARY:Bitterbalinloop #3
DESCRIPTION:9 holes inloopwedstrijd. 30 minuten vóór je gewenste starttijd melden aan de wedstrijdtafel. We spelen in flights van 3- of 4-ballen. \nVooraf inschrijven kan ook via golfdashboard \nMet na afloop op hole 19 bitterballen!
URL:https://gcheelsum.nl/kalender/bitterbalinloop-3/
LOCATION:Gelderland
CATEGORIES:WECO
ORGANIZER;CN="Weco":MAILTO:weco@gcheelsum.nl
END:VEVENT
BEGIN:VEVENT
DTSTART;TZID=Europe/Amsterdam:20260124T103600
DTEND;TZID=Europe/Amsterdam:20260124T153600
DTSTAMP:20260423T193557
CREATED:20240107T145326Z
LAST-MODIFIED:20251031T103502Z
UID:32158-1769250960-1769268960@gcheelsum.nl
SUMMARY:Bikkel #4
DESCRIPTION:Wedstrijd info:\nDe bikkel is een non-qualifying18h stableford wedstrijd. \nHet is onderdeel van een meerronde waarin de beste 4 van de 6 bikkels meetellen in het overall klassement \nPrijzen: Voor elke ronde zijn er prijzen voor de nummers 1 t/m 3. \nPlaatsing Masters: Uitsluitend de overall winnaar van de meerronde plaatst zich voor de Masters 2026 \nTee keuze: Dames; rood\, Heren:  geel
URL:https://gcheelsum.nl/kalender/bikkel-5/
LOCATION:Gelderland
CATEGORIES:WECO
ATTACH;FMTTYPE=image/png:https://gcheelsum.nl/wp-content/uploads/2024/01/winter_bikkel_1.png
END:VEVENT
BEGIN:VEVENT
DTSTART;TZID=Europe/Amsterdam:20260131T140000
DTEND;TZID=Europe/Amsterdam:20260131T170000
DTSTAMP:20260423T193557
CREATED:20251028T174056Z
LAST-MODIFIED:20251028T174056Z
UID:51132-1769868000-1769878800@gcheelsum.nl
SUMMARY:Bitterbalinloop #4
DESCRIPTION:9 holes inloopwedstrijd. 30 minuten vóór je gewenste starttijd melden aan de wedstrijdtafel. We spelen in flights van 3- of 4-ballen. \nVooraf inschrijven kan ook via golfdashboard \nMet na afloop op hole 19 bitterballen!
URL:https://gcheelsum.nl/kalender/bitterbalinloop-4/
LOCATION:Gelderland
CATEGORIES:WECO
ORGANIZER;CN="Weco":MAILTO:weco@gcheelsum.nl
END:VEVENT
END:VCALENDAR