BEGIN:VCALENDAR
VERSION:2.0
PRODID:-//Golfclub Heelsum - ECPv6.15.20//NONSGML v1.0//EN
CALSCALE:GREGORIAN
METHOD:PUBLISH
X-ORIGINAL-URL:https://gcheelsum.nl
X-WR-CALDESC:Evenementen voor Golfclub Heelsum
REFRESH-INTERVAL;VALUE=DURATION:PT1H
X-Robots-Tag:noindex
X-PUBLISHED-TTL:PT1H
BEGIN:VTIMEZONE
TZID:Europe/Amsterdam
BEGIN:DAYLIGHT
TZOFFSETFROM:+0100
TZOFFSETTO:+0200
TZNAME:CEST
DTSTART:20260329T010000
END:DAYLIGHT
BEGIN:STANDARD
TZOFFSETFROM:+0200
TZOFFSETTO:+0100
TZNAME:CET
DTSTART:20261025T010000
END:STANDARD
BEGIN:DAYLIGHT
TZOFFSETFROM:+0100
TZOFFSETTO:+0200
TZNAME:CEST
DTSTART:20270328T010000
END:DAYLIGHT
BEGIN:STANDARD
TZOFFSETFROM:+0200
TZOFFSETTO:+0100
TZNAME:CET
DTSTART:20271031T010000
END:STANDARD
BEGIN:DAYLIGHT
TZOFFSETFROM:+0100
TZOFFSETTO:+0200
TZNAME:CEST
DTSTART:20280326T010000
END:DAYLIGHT
BEGIN:STANDARD
TZOFFSETFROM:+0200
TZOFFSETTO:+0100
TZNAME:CET
DTSTART:20281029T010000
END:STANDARD
END:VTIMEZONE
BEGIN:VEVENT
DTSTART;TZID=Europe/Amsterdam:20270306T140000
DTEND;TZID=Europe/Amsterdam:20270306T170000
DTSTAMP:20260424T011556
CREATED:20251031T145338Z
LAST-MODIFIED:20251031T145338Z
UID:51262-1804341600-1804352400@gcheelsum.nl
SUMMARY:Bitterbalinloop #6
DESCRIPTION:9 holes inloopwedstrijd. 30 minuten vóór je gewenste starttijd melden aan de wedstrijdtafel. We spelen in flights van 3- of 4-ballen. \nVooraf inschrijven kan ook via golfdashboard \nMet na afloop op hole 19 bitterballen!
URL:https://gcheelsum.nl/kalender/bitterbalinloop-6/
LOCATION:Gelderland
CATEGORIES:WECO
ORGANIZER;CN="Weco":MAILTO:weco@gcheelsum.nl
END:VEVENT
END:VCALENDAR