BEGIN:VCALENDAR
VERSION:2.0
PRODID:-//Golfclub Heelsum - ECPv6.15.20//NONSGML v1.0//EN
CALSCALE:GREGORIAN
METHOD:PUBLISH
X-ORIGINAL-URL:https://gcheelsum.nl
X-WR-CALDESC:Evenementen voor Golfclub Heelsum
REFRESH-INTERVAL;VALUE=DURATION:PT1H
X-Robots-Tag:noindex
X-PUBLISHED-TTL:PT1H
BEGIN:VTIMEZONE
TZID:Europe/Amsterdam
BEGIN:DAYLIGHT
TZOFFSETFROM:+0100
TZOFFSETTO:+0200
TZNAME:CEST
DTSTART:20250330T010000
END:DAYLIGHT
BEGIN:STANDARD
TZOFFSETFROM:+0200
TZOFFSETTO:+0100
TZNAME:CET
DTSTART:20251026T010000
END:STANDARD
BEGIN:DAYLIGHT
TZOFFSETFROM:+0100
TZOFFSETTO:+0200
TZNAME:CEST
DTSTART:20260329T010000
END:DAYLIGHT
BEGIN:STANDARD
TZOFFSETFROM:+0200
TZOFFSETTO:+0100
TZNAME:CET
DTSTART:20261025T010000
END:STANDARD
BEGIN:DAYLIGHT
TZOFFSETFROM:+0100
TZOFFSETTO:+0200
TZNAME:CEST
DTSTART:20270328T010000
END:DAYLIGHT
BEGIN:STANDARD
TZOFFSETFROM:+0200
TZOFFSETTO:+0100
TZNAME:CET
DTSTART:20271031T010000
END:STANDARD
BEGIN:DAYLIGHT
TZOFFSETFROM:+0100
TZOFFSETTO:+0200
TZNAME:CEST
DTSTART:20280326T010000
END:DAYLIGHT
BEGIN:STANDARD
TZOFFSETFROM:+0200
TZOFFSETTO:+0100
TZNAME:CET
DTSTART:20281029T010000
END:STANDARD
END:VTIMEZONE
BEGIN:VEVENT
DTSTART;TZID=Europe/Amsterdam:20261122T103000
DTEND;TZID=Europe/Amsterdam:20261122T143000
DTSTAMP:20260424T012523
CREATED:20251031T103214Z
LAST-MODIFIED:20251031T103214Z
UID:51189-1795343400-1795357800@gcheelsum.nl
SUMMARY:Bikkel #1
DESCRIPTION:Wedstrijd info:\nDe bikkel is een non-qualifying18h stableford wedstrijd. \nHet is onderdeel van een meerronde waarin de beste 4 van de 6 bikkels meetellen in het overall klassement \nPrijzen: Voor elke ronde zijn er prijzen voor de nummers 1 t/m 3. \nPlaatsing Masters: Uitsluitend de overall winnaar van de meerronde plaatst zich voor de Masters 2026 \nTee keuze: Dames; rood\, Heren:  geel \n 
URL:https://gcheelsum.nl/kalender/bikkel-1/
LOCATION:Gelderland
CATEGORIES:WECO
ORGANIZER;CN="Weco":MAILTO:weco@gcheelsum.nl
END:VEVENT
BEGIN:VEVENT
DTSTART;TZID=Europe/Amsterdam:20261205T140000
DTEND;TZID=Europe/Amsterdam:20261205T170000
DTSTAMP:20260424T012523
CREATED:20251030T220307Z
LAST-MODIFIED:20251030T220307Z
UID:51185-1796479200-1796490000@gcheelsum.nl
SUMMARY:Bitterbalinloop #1
DESCRIPTION:9 holes inloopwedstrijd. 30 minuten vóór je gewenste starttijd melden aan de wedstrijdtafel. We spelen in flights van 3- of 4-ballen. \nVooraf inschrijven kan ook via golfdashboard \nMet na afloop op hole 19 bitterballen!
URL:https://gcheelsum.nl/kalender/bitterbalinloop-1-3/
LOCATION:Gelderland
CATEGORIES:WECO
ORGANIZER;CN="Weco":MAILTO:weco@gcheelsum.nl
END:VEVENT
BEGIN:VEVENT
DTSTART;TZID=Europe/Amsterdam:20261212T103000
DTEND;TZID=Europe/Amsterdam:20261212T170000
DTSTAMP:20260424T012523
CREATED:20251031T103302Z
LAST-MODIFIED:20251031T103302Z
UID:51191-1797071400-1797094800@gcheelsum.nl
SUMMARY:Bikkel #2
DESCRIPTION:Wedstrijd info:\nDe bikkel is een non-qualifying18h stableford wedstrijd. \nHet is onderdeel van een meerronde waarin de beste 4 van de 6 bikkels meetellen in het overall klassement \nPrijzen: Voor elke ronde zijn er prijzen voor de nummers 1 t/m 3. \nPlaatsing Masters: Uitsluitend de overall winnaar van de meerronde plaatst zich voor de Masters 2026 \nTee keuze: Dames; rood\, Heren:  geel
URL:https://gcheelsum.nl/kalender/bikkel-2/
LOCATION:Golfbaan Heelsum\, Ginkelseweg 14\, Heelsum\, Gelderland\, 6866DZ\, Netherlands
CATEGORIES:WECO
ATTACH;FMTTYPE=image/png:https://gcheelsum.nl/wp-content/uploads/2024/01/winter_bikkel_1.png
ORGANIZER;CN="Weco":MAILTO:weco@gcheelsum.nl
END:VEVENT
BEGIN:VEVENT
DTSTART;TZID=Europe/Amsterdam:20261220T120000
DTEND;TZID=Europe/Amsterdam:20261220T170000
DTSTAMP:20260424T012523
CREATED:20251028T172910Z
LAST-MODIFIED:20251028T172910Z
UID:51125-1797768000-1797786000@gcheelsum.nl
SUMMARY:Kerstwedstrijd
DESCRIPTION:Nieuw in 2025 een heerlijke kerstwedstrijd in het teken van familie en de kerst. Fourball betterball voor jong en oud.
URL:https://gcheelsum.nl/kalender/kerstwedstrijd/
LOCATION:Gelderland
CATEGORIES:WECO
ORGANIZER;CN="Weco":MAILTO:weco@gcheelsum.nl
END:VEVENT
BEGIN:VEVENT
DTSTART;TZID=Europe/Amsterdam:20270102T140000
DTEND;TZID=Europe/Amsterdam:20270102T170000
DTSTAMP:20260424T012523
CREATED:20251030T220815Z
LAST-MODIFIED:20251030T220815Z
UID:51187-1798898400-1798909200@gcheelsum.nl
SUMMARY:Bitterbalinloop #2
DESCRIPTION:9 holes inloopwedstrijd. 30 minuten vóór je gewenste starttijd melden aan de wedstrijdtafel. We spelen in flights van 3- of 4-ballen. \nVooraf inschrijven kan ook via golfdashboard \nMet na afloop op hole 19 bitterballen!
URL:https://gcheelsum.nl/kalender/bitterbalinloop-2/
LOCATION:Gelderland
CATEGORIES:WECO
ORGANIZER;CN="Weco":MAILTO:weco@gcheelsum.nl
END:VEVENT
BEGIN:VEVENT
DTSTART;TZID=Europe/Amsterdam:20270117T100000
DTEND;TZID=Europe/Amsterdam:20270117T170000
DTSTAMP:20260424T012523
CREATED:20251031T103341Z
LAST-MODIFIED:20251031T103341Z
UID:51193-1800180000-1800205200@gcheelsum.nl
SUMMARY:Bikkel #3
DESCRIPTION:Wedstrijd info:\nDe bikkel is een non-qualifying18h stableford wedstrijd. \nHet is onderdeel van een meerronde waarin de beste 4 van de 6 bikkels meetellen in het overall klassement \nPrijzen: Voor elke ronde zijn er prijzen voor de nummers 1 t/m 3. \nPlaatsing Masters: Uitsluitend de overall winnaar van de meerronde plaatst zich voor de Masters 2026 \nTee keuze: Dames; rood\, Heren:  geel
URL:https://gcheelsum.nl/kalender/bikkel-3/
LOCATION:Gelderland
CATEGORIES:WECO
ORGANIZER;CN="Weco":MAILTO:weco@gcheelsum.nl
END:VEVENT
BEGIN:VEVENT
DTSTART;TZID=Europe/Amsterdam:20270123T140000
DTEND;TZID=Europe/Amsterdam:20270123T170000
DTSTAMP:20260424T012523
CREATED:20251031T145210Z
LAST-MODIFIED:20251031T145210Z
UID:51256-1800712800-1800723600@gcheelsum.nl
SUMMARY:Bitterbalinloop #3
DESCRIPTION:9 holes inloopwedstrijd. 30 minuten vóór je gewenste starttijd melden aan de wedstrijdtafel. We spelen in flights van 3- of 4-ballen. \nVooraf inschrijven kan ook via golfdashboard \nMet na afloop op hole 19 bitterballen!
URL:https://gcheelsum.nl/kalender/bitterbalinloop-3-2/
LOCATION:Gelderland
CATEGORIES:WECO
ORGANIZER;CN="Weco":MAILTO:weco@gcheelsum.nl
END:VEVENT
BEGIN:VEVENT
DTSTART;TZID=Europe/Amsterdam:20270130T103600
DTEND;TZID=Europe/Amsterdam:20270130T160000
DTSTAMP:20260424T012523
CREATED:20251031T103439Z
LAST-MODIFIED:20251031T103439Z
UID:51195-1801305360-1801324800@gcheelsum.nl
SUMMARY:Bikkel #4
DESCRIPTION:Wedstrijd info:\nDe bikkel is een non-qualifying18h stableford wedstrijd. \nHet is onderdeel van een meerronde waarin de beste 4 van de 6 bikkels meetellen in het overall klassement \nPrijzen: Voor elke ronde zijn er prijzen voor de nummers 1 t/m 3. \nPlaatsing Masters: Uitsluitend de overall winnaar van de meerronde plaatst zich voor de Masters 2026 \nTee keuze: Dames; rood\, Heren:  geel
URL:https://gcheelsum.nl/kalender/bikkel-4/
LOCATION:Gelderland
CATEGORIES:WECO
ATTACH;FMTTYPE=image/png:https://gcheelsum.nl/wp-content/uploads/2024/01/winter_bikkel_1.png
END:VEVENT
BEGIN:VEVENT
DTSTART;TZID=Europe/Amsterdam:20270206T140000
DTEND;TZID=Europe/Amsterdam:20270206T170000
DTSTAMP:20260424T012523
CREATED:20251031T145256Z
LAST-MODIFIED:20251031T145256Z
UID:51258-1801922400-1801933200@gcheelsum.nl
SUMMARY:Bitterbalinloop #4
DESCRIPTION:9 holes inloopwedstrijd. 30 minuten vóór je gewenste starttijd melden aan de wedstrijdtafel. We spelen in flights van 3- of 4-ballen. \nVooraf inschrijven kan ook via golfdashboard \nMet na afloop op hole 19 bitterballen!
URL:https://gcheelsum.nl/kalender/bitterbalinloop-4-2/
LOCATION:Gelderland
CATEGORIES:WECO
ORGANIZER;CN="Weco":MAILTO:weco@gcheelsum.nl
END:VEVENT
BEGIN:VEVENT
DTSTART;TZID=Europe/Amsterdam:20270213T103600
DTEND;TZID=Europe/Amsterdam:20270213T150000
DTSTAMP:20260424T012523
CREATED:20251031T103542Z
LAST-MODIFIED:20251031T103542Z
UID:51197-1802514960-1802530800@gcheelsum.nl
SUMMARY:Bikkel #5
DESCRIPTION:Wedstrijd info:\nDe bikkel is een non-qualifying18h stableford wedstrijd. \nHet is onderdeel van een meerronde waarin de beste 4 van de 6 bikkels meetellen in het overall klassement \nPrijzen: Voor elke ronde zijn er prijzen voor de nummers 1 t/m 3. \nPlaatsing Masters: Uitsluitend de overall winnaar van de meerronde plaatst zich voor de Masters 2026 \nTee keuze: Dames; rood\, Heren:  geel
URL:https://gcheelsum.nl/kalender/bikkel-5-3/
LOCATION:Gelderland
CATEGORIES:WECO
ATTACH;FMTTYPE=image/png:https://gcheelsum.nl/wp-content/uploads/2024/01/winter_bikkel_1.png
END:VEVENT
BEGIN:VEVENT
DTSTART;TZID=Europe/Amsterdam:20270220T140000
DTEND;TZID=Europe/Amsterdam:20270220T170000
DTSTAMP:20260424T012523
CREATED:20251031T145316Z
LAST-MODIFIED:20251031T145316Z
UID:51260-1803132000-1803142800@gcheelsum.nl
SUMMARY:Bitterbalinloop #5
DESCRIPTION:9 holes inloopwedstrijd. 30 minuten vóór je gewenste starttijd melden aan de wedstrijdtafel. We spelen in flights van 3- of 4-ballen. \nVooraf inschrijven kan ook via golfdashboard \nMet na afloop op hole 19 bitterballen!
URL:https://gcheelsum.nl/kalender/bitterbalinloop-5-2/
LOCATION:Gelderland
CATEGORIES:WECO
ORGANIZER;CN="Weco":MAILTO:weco@gcheelsum.nl
END:VEVENT
BEGIN:VEVENT
DTSTART;TZID=Europe/Amsterdam:20270228T103600
DTEND;TZID=Europe/Amsterdam:20270228T150000
DTSTAMP:20260424T012523
CREATED:20251031T103623Z
LAST-MODIFIED:20251031T103623Z
UID:51199-1803810960-1803826800@gcheelsum.nl
SUMMARY:Bikkel #6 slot
DESCRIPTION:Wedstrijd info:\nDe bikkel is een non-qualifying18h stableford wedstrijd. \nHet is onderdeel van een meerronde waarin de beste 4 van de 6 bikkels meetellen in het overall klassement \nPrijzen: Voor elke ronde zijn er prijzen voor de nummers 1 t/m 3. \nPlaatsing Masters: Uitsluitend de overall winnaar van de meerronde plaatst zich voor de Masters 2026 \nTee keuze: Dames; rood\, Heren:  geel
URL:https://gcheelsum.nl/kalender/bikkel-6-slot-3/
LOCATION:Gelderland
CATEGORIES:WECO
ATTACH;FMTTYPE=image/png:https://gcheelsum.nl/wp-content/uploads/2024/01/winter_bikkel_1.png
END:VEVENT
BEGIN:VEVENT
DTSTART;TZID=Europe/Amsterdam:20270306T140000
DTEND;TZID=Europe/Amsterdam:20270306T170000
DTSTAMP:20260424T012523
CREATED:20251031T145338Z
LAST-MODIFIED:20251031T145338Z
UID:51262-1804341600-1804352400@gcheelsum.nl
SUMMARY:Bitterbalinloop #6
DESCRIPTION:9 holes inloopwedstrijd. 30 minuten vóór je gewenste starttijd melden aan de wedstrijdtafel. We spelen in flights van 3- of 4-ballen. \nVooraf inschrijven kan ook via golfdashboard \nMet na afloop op hole 19 bitterballen!
URL:https://gcheelsum.nl/kalender/bitterbalinloop-6/
LOCATION:Gelderland
CATEGORIES:WECO
ORGANIZER;CN="Weco":MAILTO:weco@gcheelsum.nl
END:VEVENT
END:VCALENDAR