BEGIN:VCALENDAR
VERSION:2.0
PRODID:-//Golfclub Heelsum - ECPv6.15.20//NONSGML v1.0//EN
CALSCALE:GREGORIAN
METHOD:PUBLISH
X-WR-CALNAME:Golfclub Heelsum
X-ORIGINAL-URL:https://gcheelsum.nl
X-WR-CALDESC:Evenementen voor Golfclub Heelsum
REFRESH-INTERVAL;VALUE=DURATION:PT1H
X-Robots-Tag:noindex
X-PUBLISHED-TTL:PT1H
BEGIN:VTIMEZONE
TZID:Europe/Amsterdam
BEGIN:DAYLIGHT
TZOFFSETFROM:+0100
TZOFFSETTO:+0200
TZNAME:CEST
DTSTART:20250330T010000
END:DAYLIGHT
BEGIN:STANDARD
TZOFFSETFROM:+0200
TZOFFSETTO:+0100
TZNAME:CET
DTSTART:20251026T010000
END:STANDARD
BEGIN:DAYLIGHT
TZOFFSETFROM:+0100
TZOFFSETTO:+0200
TZNAME:CEST
DTSTART:20260329T010000
END:DAYLIGHT
BEGIN:STANDARD
TZOFFSETFROM:+0200
TZOFFSETTO:+0100
TZNAME:CET
DTSTART:20261025T010000
END:STANDARD
BEGIN:DAYLIGHT
TZOFFSETFROM:+0100
TZOFFSETTO:+0200
TZNAME:CEST
DTSTART:20270328T010000
END:DAYLIGHT
BEGIN:STANDARD
TZOFFSETFROM:+0200
TZOFFSETTO:+0100
TZNAME:CET
DTSTART:20271031T010000
END:STANDARD
END:VTIMEZONE
BEGIN:VEVENT
DTSTART;TZID=Europe/Amsterdam:20261010T103000
DTEND;TZID=Europe/Amsterdam:20261010T170000
DTSTAMP:20260424T125851
CREATED:20251031T144532Z
LAST-MODIFIED:20251031T144532Z
UID:51249-1791628200-1791651600@gcheelsum.nl
SUMMARY:18 Najaarswedstrijd  fourball betterball stableford
DESCRIPTION:
URL:https://gcheelsum.nl/kalender/18-najaarswedstrijd-fourball-betterball-stableford/
LOCATION:Golfbaan Heelsum\, Ginkelseweg 14\, Heelsum\, Gelderland\, 6866DZ\, Netherlands
CATEGORIES:WECO
ORGANIZER;CN="Weco":MAILTO:weco@gcheelsum.nl
END:VEVENT
BEGIN:VEVENT
DTSTART;TZID=Europe/Amsterdam:20261010T110000
DTEND;TZID=Europe/Amsterdam:20261010T120000
DTSTAMP:20260424T125851
CREATED:20251031T144343Z
LAST-MODIFIED:20251031T144343Z
UID:51247-1791630000-1791633600@gcheelsum.nl
SUMMARY:Finale Groene Hagedis
DESCRIPTION:
URL:https://gcheelsum.nl/kalender/finale-groene-hagedis-2/
LOCATION:Golfbaan Heelsum\, Ginkelseweg 14\, Heelsum\, Gelderland\, 6866DZ\, Netherlands
CATEGORIES:WECO
ORGANIZER;CN="Weco":MAILTO:weco@gcheelsum.nl
END:VEVENT
END:VCALENDAR