BEGIN:VCALENDAR
VERSION:2.0
PRODID:-//Golfclub Heelsum - ECPv6.15.20//NONSGML v1.0//EN
CALSCALE:GREGORIAN
METHOD:PUBLISH
X-ORIGINAL-URL:https://gcheelsum.nl
X-WR-CALDESC:Evenementen voor Golfclub Heelsum
REFRESH-INTERVAL;VALUE=DURATION:PT1H
X-Robots-Tag:noindex
X-PUBLISHED-TTL:PT1H
BEGIN:VTIMEZONE
TZID:Europe/Amsterdam
BEGIN:DAYLIGHT
TZOFFSETFROM:+0100
TZOFFSETTO:+0200
TZNAME:CEST
DTSTART:20250330T010000
END:DAYLIGHT
BEGIN:STANDARD
TZOFFSETFROM:+0200
TZOFFSETTO:+0100
TZNAME:CET
DTSTART:20251026T010000
END:STANDARD
BEGIN:DAYLIGHT
TZOFFSETFROM:+0100
TZOFFSETTO:+0200
TZNAME:CEST
DTSTART:20260329T010000
END:DAYLIGHT
BEGIN:STANDARD
TZOFFSETFROM:+0200
TZOFFSETTO:+0100
TZNAME:CET
DTSTART:20261025T010000
END:STANDARD
BEGIN:DAYLIGHT
TZOFFSETFROM:+0100
TZOFFSETTO:+0200
TZNAME:CEST
DTSTART:20270328T010000
END:DAYLIGHT
BEGIN:STANDARD
TZOFFSETFROM:+0200
TZOFFSETTO:+0100
TZNAME:CET
DTSTART:20271031T010000
END:STANDARD
END:VTIMEZONE
BEGIN:VEVENT
DTSTART;TZID=Europe/Amsterdam:20260822T130000
DTEND;TZID=Europe/Amsterdam:20260822T190000
DTSTAMP:20260424T015331
CREATED:20251031T143310Z
LAST-MODIFIED:20251031T143310Z
UID:51230-1787403600-1787425200@gcheelsum.nl
SUMMARY:Horeca wedstrijd Four-ball better-ball
DESCRIPTION:Hier wordt de horeca in het zonnetje zet en maak kans op lekkere prijzen van de Brasserie. \nJe speelt in teams van 2. Spelvorm is Four-ball better-ball traditioneel gebruikt in de Ryder Cup. Spelers spelen in teams van 2 en spelen elk hun eigen golfbal. De persoon met de hoogste stableford score (in je team) per hole schrijft die score op. \nLaat je verrassen door de vele bijzondere verrichtingen en prijzen welke allemaal horeca gerelateerd zijn. Denk aan een “Beat the “Kok”\, “Put voor bitterballen”\, Nearest to “The cup of soup”\, of win je diner.
URL:https://gcheelsum.nl/kalender/horeca-wedstrijd-four-ball-better-ball/
LOCATION:Golfbaan Heelsum\, Ginkelseweg 14\, Heelsum\, Gelderland\, 6866DZ\, Netherlands
END:VEVENT
END:VCALENDAR