BEGIN:VCALENDAR
VERSION:2.0
PRODID:-//Golfclub Heelsum - ECPv6.15.20//NONSGML v1.0//EN
CALSCALE:GREGORIAN
METHOD:PUBLISH
X-WR-CALNAME:Golfclub Heelsum
X-ORIGINAL-URL:https://gcheelsum.nl
X-WR-CALDESC:Evenementen voor Golfclub Heelsum
REFRESH-INTERVAL;VALUE=DURATION:PT1H
X-Robots-Tag:noindex
X-PUBLISHED-TTL:PT1H
BEGIN:VTIMEZONE
TZID:Europe/Amsterdam
BEGIN:DAYLIGHT
TZOFFSETFROM:+0100
TZOFFSETTO:+0200
TZNAME:CEST
DTSTART:20240331T010000
END:DAYLIGHT
BEGIN:STANDARD
TZOFFSETFROM:+0200
TZOFFSETTO:+0100
TZNAME:CET
DTSTART:20241027T010000
END:STANDARD
BEGIN:DAYLIGHT
TZOFFSETFROM:+0100
TZOFFSETTO:+0200
TZNAME:CEST
DTSTART:20250330T010000
END:DAYLIGHT
BEGIN:STANDARD
TZOFFSETFROM:+0200
TZOFFSETTO:+0100
TZNAME:CET
DTSTART:20251026T010000
END:STANDARD
BEGIN:DAYLIGHT
TZOFFSETFROM:+0100
TZOFFSETTO:+0200
TZNAME:CEST
DTSTART:20260329T010000
END:DAYLIGHT
BEGIN:STANDARD
TZOFFSETFROM:+0200
TZOFFSETTO:+0100
TZNAME:CET
DTSTART:20261025T010000
END:STANDARD
END:VTIMEZONE
BEGIN:VEVENT
DTSTART;TZID=Europe/Amsterdam:20251213T103000
DTEND;TZID=Europe/Amsterdam:20251213T170000
DTSTAMP:20260423T221640
CREATED:20241216T124359Z
LAST-MODIFIED:20251028T172601Z
UID:45778-1765621800-1765645200@gcheelsum.nl
SUMMARY:Bikkel #2
DESCRIPTION:Wedstrijd info:\nDe bikkel is een non-qualifying18h stableford wedstrijd. \nHet is onderdeel van een meerronde waarin de beste 4 van de 6 bikkels meetellen in het overall klassement \nPrijzen: Voor elke ronde zijn er prijzen voor de nummers 1 t/m 3. \nPlaatsing Masters: Uitsluitend de overall winnaar van de meerronde plaatst zich voor de Masters 2026 \nTee keuze: Dames; rood\, Heren:  geel
URL:https://gcheelsum.nl/kalender/bikkel-2-2/
LOCATION:Golfbaan Heelsum\, Ginkelseweg 14\, Heelsum\, Gelderland\, 6866DZ\, Netherlands
CATEGORIES:WECO
ATTACH;FMTTYPE=image/png:https://gcheelsum.nl/wp-content/uploads/2024/01/winter_bikkel_1.png
ORGANIZER;CN="Weco":MAILTO:weco@gcheelsum.nl
END:VEVENT
END:VCALENDAR