BEGIN:VCALENDAR
VERSION:2.0
PRODID:-//Golfclub Heelsum - ECPv6.15.20//NONSGML v1.0//EN
CALSCALE:GREGORIAN
METHOD:PUBLISH
X-WR-CALNAME:Golfclub Heelsum
X-ORIGINAL-URL:https://gcheelsum.nl
X-WR-CALDESC:Evenementen voor Golfclub Heelsum
REFRESH-INTERVAL;VALUE=DURATION:PT1H
X-Robots-Tag:noindex
X-PUBLISHED-TTL:PT1H
BEGIN:VTIMEZONE
TZID:Europe/Amsterdam
BEGIN:DAYLIGHT
TZOFFSETFROM:+0100
TZOFFSETTO:+0200
TZNAME:CEST
DTSTART:20240331T010000
END:DAYLIGHT
BEGIN:STANDARD
TZOFFSETFROM:+0200
TZOFFSETTO:+0100
TZNAME:CET
DTSTART:20241027T010000
END:STANDARD
BEGIN:DAYLIGHT
TZOFFSETFROM:+0100
TZOFFSETTO:+0200
TZNAME:CEST
DTSTART:20250330T010000
END:DAYLIGHT
BEGIN:STANDARD
TZOFFSETFROM:+0200
TZOFFSETTO:+0100
TZNAME:CET
DTSTART:20251026T010000
END:STANDARD
BEGIN:DAYLIGHT
TZOFFSETFROM:+0100
TZOFFSETTO:+0200
TZNAME:CEST
DTSTART:20260329T010000
END:DAYLIGHT
BEGIN:STANDARD
TZOFFSETFROM:+0200
TZOFFSETTO:+0100
TZNAME:CET
DTSTART:20261025T010000
END:STANDARD
END:VTIMEZONE
BEGIN:VEVENT
DTSTART;TZID=Europe/Amsterdam:20251011T123000
DTEND;TZID=Europe/Amsterdam:20251011T170000
DTSTAMP:20260424T005639
CREATED:20251016T112936Z
LAST-MODIFIED:20241216T131813Z
UID:45753-1760185800-1760202000@gcheelsum.nl
SUMMARY:Finale Groene Hagedis
DESCRIPTION:De finales worden gespeeld van de groene hagedis. \n#1 en #2 tegen elkaar en #3 en #4 tegen elkaar
URL:https://gcheelsum.nl/kalender/finale-groene-hagedis/
LOCATION:Gelderland
CATEGORIES:WECO
ORGANIZER;CN="Weco":MAILTO:weco@gcheelsum.nl
END:VEVENT
BEGIN:VEVENT
DTSTART;TZID=Europe/Amsterdam:20251011T140000
DTEND;TZID=Europe/Amsterdam:20251011T160000
DTSTAMP:20260424T005639
CREATED:20241216T123102Z
LAST-MODIFIED:20250820T125202Z
UID:45755-1760191200-1760198400@gcheelsum.nl
SUMMARY:Cheers 18 holes stb wedstrijd
DESCRIPTION:18 holes stableford wedstrijd. Na binnenkomst worden ook de finalisten van de groene hagedis onthaald en in het zonnetje gezet
URL:https://gcheelsum.nl/kalender/cheers-9holes-stb/
LOCATION:Gelderland
CATEGORIES:WECO
END:VEVENT
END:VCALENDAR